			
			
		BEGIN:VCALENDAR
VERSION:2.0
PRODID:Imitheme.com
BEGIN:VEVENT
UID:20260420T090856-2139995660
DTSTAMP:20260420T090856
DTSTART:20260420T190000
DTEND:20260420T190000
SUMMARY:Misa por Doña Eloina Afonso Afonso
LOCATION:Iglesia San Isidro Labrador (El Chorrillo)
DESCRIPTION: 
END:VEVENT
END:VCALENDAR
