			
			
		BEGIN:VCALENDAR
VERSION:2.0
PRODID:Imitheme.com 
BEGIN:VEVENT
UID:20260422T084705662865860
DTSTAMP;TZID=UTC:20260422T084705
DTSTART;TZID=UTC:20260422T190000
DTEND;TZID=UTC:20260422T190000
SUMMARY:Misa por Doña Eloina Afonso Afonso
LOCATION:Iglesia San Isidro Labrador (El Chorrillo)
DESCRIPTION:
END:VEVENT
END:VCALENDAR
