			
			
		BEGIN:VCALENDAR
VERSION:2.0
PRODID:Imitheme.com
BEGIN:VEVENT
UID:20260424T225712-1068892590
DTSTAMP:20260424T225712
DTSTART:20260424T162000
DTEND:20260424T162000
SUMMARY:Doña Rosmery Garcia Lafuente
LOCATION:Sala 1 - Velatorio Los Campos
DESCRIPTION: 
END:VEVENT
END:VCALENDAR
