			
			
		BEGIN:VCALENDAR
VERSION:2.0
PRODID:Imitheme.com
BEGIN:VEVENT
UID:20260421T112358-1499042603
DTSTAMP:20260421T112358
DTSTART:20260421T112000
DTEND:20260421T112000
SUMMARY:Doña Nieves Luisa Castillo Rodríguez
LOCATION:Sala 3 - Velatorio Albia Tenerife
DESCRIPTION: 
END:VEVENT
END:VCALENDAR
