			
			
		BEGIN:VCALENDAR
VERSION:2.0
PRODID:Imitheme.com 
BEGIN:VEVENT
UID:20260426T032033387725868
DTSTAMP;TZID=UTC:20260426T032033
DTSTART;TZID=UTC:20260426T104000
DTEND;TZID=UTC:20260426T104000
SUMMARY:Doña María Luisa Montesino Arteaga
LOCATION:Tanatorio Santa Lastenia sala nº4 
DESCRIPTION:
END:VEVENT
END:VCALENDAR
