			
			
		BEGIN:VCALENDAR
VERSION:2.0
PRODID:Imitheme.com
BEGIN:VEVENT
UID:20260419T134950-1333408987
DTSTAMP:20260419T134950
DTSTART:20260419T190000
DTEND:20260419T190000
SUMMARY:Doña dolores Díaz Ramos
LOCATION:Velatorio de Barranco hondo
DESCRIPTION: 
END:VEVENT
END:VCALENDAR
