			
			
		BEGIN:VCALENDAR
VERSION:2.0
PRODID:Imitheme.com
BEGIN:VEVENT
UID:20260421T075856-1010766199
DTSTAMP:20260421T075856
DTSTART:20260421T104000
DTEND:20260421T104000
SUMMARY:Doña Clementina García Cabrera
LOCATION:Tanatorio Tenerife Servisa - Sala 1
DESCRIPTION: 
END:VEVENT
END:VCALENDAR
