			
			
		BEGIN:VCALENDAR
VERSION:2.0
PRODID:Imitheme.com 
BEGIN:VEVENT
UID:20260422T074252708162908
DTSTAMP;TZID=UTC:20260422T074252
DTSTART;TZID=UTC:20260422T152000
DTEND;TZID=UTC:20260422T152000
SUMMARY:Doña Australia Amelia Real Martín
LOCATION:Tanatorio Albia Los Campos
DESCRIPTION:
END:VEVENT
END:VCALENDAR
