			
			
		BEGIN:VCALENDAR
VERSION:2.0
PRODID:Imitheme.com 
BEGIN:VEVENT
UID:20260421T0745301869015550
DTSTAMP;TZID=UTC:20260421T074530
DTSTART;TZID=UTC:20260421T144000
DTEND;TZID=UTC:20260421T144000
SUMMARY:Don Manuel Armas Arteaga
LOCATION:Tanatorio Santa Lastenia - Sala 5
DESCRIPTION:
END:VEVENT
END:VCALENDAR
