			
			
		BEGIN:VCALENDAR
VERSION:2.0
PRODID:Imitheme.com
BEGIN:VEVENT
UID:20260425T112211-899970814
DTSTAMP:20260425T112211
DTSTART:20260425T140000
DTEND:20260425T140000
SUMMARY:Don Juan Falcón Alonso
LOCATION:Velatorio Los Campos - Sala 2
DESCRIPTION: 
END:VEVENT
END:VCALENDAR
