			
			
		BEGIN:VCALENDAR
VERSION:2.0
PRODID:Imitheme.com
BEGIN:VEVENT
UID:20260421T090407-943643589
DTSTAMP:20260421T090407
DTSTART:20260421T170000
DTEND:20260421T170000
SUMMARY:Don Juan Ceferino Donate Pérez
LOCATION:Tanatorio De Tenerife Sala Nº 5
DESCRIPTION: 
END:VEVENT
END:VCALENDAR
