			
			
		BEGIN:VCALENDAR
VERSION:2.0
PRODID:Imitheme.com 
BEGIN:VEVENT
UID:20260426T0345421920502858
DTSTAMP;TZID=UTC:20260426T034542
DTSTART;TZID=UTC:20260426T112000
DTEND;TZID=UTC:20260426T112000
SUMMARY:Don José Manuel Felippelli Nieto
LOCATION:Sala 7 - Tanatorio Santa Lastenia
DESCRIPTION:
END:VEVENT
END:VCALENDAR
