			
			
		BEGIN:VCALENDAR
VERSION:2.0
PRODID:Imitheme.com 
BEGIN:VEVENT
UID:20260425T1213211384304355
DTSTAMP;TZID=UTC:20260425T121321
DTSTART;TZID=UTC:20260425T120000
DTEND;TZID=UTC:20260425T120000
SUMMARY:D. Miguel Ángel González del Pino
LOCATION:Tanatorio Santa Lastenia sala nº2
DESCRIPTION:
END:VEVENT
END:VCALENDAR
