			
			
		BEGIN:VCALENDAR
VERSION:2.0
PRODID:Imitheme.com
BEGIN:VEVENT
UID:20260426T031908-1324481458
DTSTAMP:20260426T031908
DTSTART:20260426T124000
DTEND:20260426T124000
SUMMARY:D. Jesús Rodríguez Hernández
LOCATION:Tanatorio de Tenerife (Servisa) - sala 7
DESCRIPTION: 
END:VEVENT
END:VCALENDAR
