			
			
		BEGIN:VCALENDAR
VERSION:2.0
PRODID:Imitheme.com 
BEGIN:VEVENT
UID:20260422T182124299042331
DTSTAMP;TZID=UTC:20260422T182124
DTSTART;TZID=UTC:20260422T152000
DTEND;TZID=UTC:20260422T152000
SUMMARY:D. GREGORIO FELIPE LOPEZ MORALES
LOCATION:Velatorio Albia Tenerife
DESCRIPTION:
END:VEVENT
END:VCALENDAR
