			
			
		BEGIN:VCALENDAR
VERSION:2.0
PRODID:Imitheme.com 
BEGIN:VEVENT
UID:20260420T0833281260956424
DTSTAMP;TZID=UTC:20260420T083328
DTSTART;TZID=UTC:20260420T160000
DTEND;TZID=UTC:20260420T160000
SUMMARY:D. Germán Guillermo Afonso Domínguez
LOCATION:Tanatorio de Santa Lastenia Sala 3
DESCRIPTION:
END:VEVENT
END:VCALENDAR
