			
			
		BEGIN:VCALENDAR
VERSION:2.0
PRODID:Imitheme.com 
BEGIN:VEVENT
UID:20260422T1627531347088626
DTSTAMP;TZID=UTC:20260422T162753
DTSTART;TZID=UTC:20260422T124000
DTEND;TZID=UTC:20260422T124000
SUMMARY:Agustín Quesada Tadeo
LOCATION:sala 4 Mémora
DESCRIPTION:
END:VEVENT
END:VCALENDAR
